BEGIN:VCALENDAR
X-WR-TIMEZONE:Europe/Berlin
X-WR-CALNAME:rbb-Kalender
VERSION:2.0
METHOD:PUBLISH
CALSCALE:GREGORIAN
PRODID:rbb-CMS DAY
BEGIN:VEVENT
LOCATION:Spielfilm Deutschland 1998
CLASS:PUBLIC
URL:http://www.rbb-online.de/content/rbb/rbb/fernsehen/programm/12_04_2014/11935766956.html
DTEND:20140412T131500
DTSTART:20140412T115000
UID:/content/rbb/rbb/fernsehen/programm/12_04_2014/11935766956
DTSTAMP:20140404T185806
DESCRIPTION:Die etwas linkische Studentin Judith wird von Pleiten, Pech und Pannen verfolgt. Das missglückte Babysitten bei ihrer Schwester Rebecca endet mit einer ruinierten Wohnung und den zerstörten Gemälden ihres Vaters. Zudem verliert sie auch noch ihren Job und ihren Freund Holger. In diesem Chaos bemerkt sie nicht, dass der charmante Nachbar Leo unsterblich in sie verliebt ist.
SUMMARY:Männer und andere Katastrophen 12.04.2014 11:50
END:VEVENT
END:VCALENDAR
