BEGIN:VCALENDAR
X-WR-TIMEZONE:Europe/Berlin
X-WR-CALNAME:rbb-Kalender
VERSION:2.0
METHOD:PUBLISH
CALSCALE:GREGORIAN
PRODID:rbb-CMS DAY
BEGIN:VEVENT
LOCATION:Moderation: Ulrich Adrian
CLASS:PUBLIC
URL:http://www.rbb-online.de/content/rbb/rbb/fernsehen/programm/12_04_2014/11935766990.html
DTEND:20140412T133000
DTSTART:20140412T131500
UID:/content/rbb/rbb/fernsehen/programm/12_04_2014/11935766990
DTSTAMP:20140404T185914
DESCRIPTION:Feuilletonistisches aus der polnischen Hauptstadt von und mit Ulrich Adrian und dem ARD-Team Warschau.
SUMMARY:Warschauer Notizen 12.04.2014 13:15
END:VEVENT
END:VCALENDAR
