BEGIN:VCALENDAR
X-WR-TIMEZONE:Europe/Berlin
X-WR-CALNAME:rbb-Kalender
VERSION:2.0
METHOD:PUBLISH
CALSCALE:GREGORIAN
PRODID:rbb-CMS DAY
BEGIN:VEVENT
LOCATION:Grünes Land am Ostseestrand
CLASS:PUBLIC
URL:http://www.rbb-online.de/content/rbb/rbb/fernsehen/programm/12_04_2014/11935767131.html
DTEND:20140412T153000
DTSTART:20140412T144500
UID:/content/rbb/rbb/fernsehen/programm/12_04_2014/11935767131
DTSTAMP:20140404T185832
DESCRIPTION:Ein Land zwischen Sanddünen und urwüchsigen Wäldern, durchzogen von tiefen Flusstälern und ausgedehnten Seenlandschaften: Das ist Litauen - das grüne Herz Europas. Denn hier liegt tatsächlich der geografische Mittelpunkt Europas. Ein einzigartiger Lebensraum für Biber und Störche, Wisente und Elche. Litauen, das ist auch die Heimat von Kazimieras Mizgiris. Der leidenschaftliche Naturfotograf und Bernsteinsammler erfüllt sich einen lang gehegten Traum: ein ganzes Jahr lang durchstreift er die historischen Regionen Litauens.
SUMMARY:Wildes Litauen 12.04.2014 14:45
END:VEVENT
END:VCALENDAR
