BEGIN:VCALENDAR
X-WR-TIMEZONE:Europe/Berlin
X-WR-CALNAME:rbb-Kalender
VERSION:2.0
METHOD:PUBLISH
CALSCALE:GREGORIAN
PRODID:rbb-CMS DAY
BEGIN:VEVENT
LOCATION:Geschichten aus dem Zoo Berlin und dem Tierpark Berlin
CLASS:PUBLIC
URL:http://www.rbb-online.de/content/rbb/rbb/fernsehen/programm/12_04_2014/11935767218.html
DTEND:20140412T175000
DTSTART:20140412T170500
UID:/content/rbb/rbb/fernsehen/programm/12_04_2014/11935767218
DTSTAMP:20140404T185800
DESCRIPTION:Jeden Morgen, wenn die Tierpfleger zur Arbeit kommen, steht in den jeweiligen Revieren erst einmal Gehege-Kontrolle auf dem Plan. Auch im Tropenaffenhaus schaut Pfleger Marco König am Morgen nach dem Rechten. Er prüft, ob sich eventuell ein Tier über Nacht verletzt hat oder vielleicht Jungtiere geboren wurden - und das bei 25 verschiedenen Affenarten, die hier leben.
SUMMARY:Panda, Gorilla & Co. (269) 12.04.2014 17:05
END:VEVENT
END:VCALENDAR
