BEGIN:VCALENDAR
X-WR-TIMEZONE:Europe/Berlin
X-WR-CALNAME:rbb-Kalender
VERSION:2.0
METHOD:PUBLISH
CALSCALE:GREGORIAN
PRODID:rbb-CMS DAY
BEGIN:VEVENT
LOCATION:Rückblick auf die aktuelle "zibb"-Aktion
CLASS:PUBLIC
URL:http://www.rbb-online.de/content/rbb/rbb/fernsehen/programm/12_04_2014/11935767432.html
DTEND:20140412T190000
DTSTART:20140412T183200
UID:/content/rbb/rbb/fernsehen/programm/12_04_2014/11935767432
DTSTAMP:20140404T185738
DESCRIPTION:Egal, ob es um einen Einsatz für denkmalgeschützte Objekte oder Kultureinrichtungen, für Menschen mit Behinderung oder junge Sportler, für Senioren oder sozial Bedürftige, für Kinder oder Tiere geht: im Vordergrund stehen spontane Hilfsbereitschaft und Zusammenhalt, wenn rbb-Reporter mit Fernseh- und Hörfunk-Übertragungswagen für 96 STUNDEN an einen Ort in Berlin-Brandenburg reisen.
SUMMARY:96 Stunden - Zeit zum Helfen 12.04.2014 18:32
END:VEVENT
END:VCALENDAR
