BEGIN:VCALENDAR
X-WR-TIMEZONE:Europe/Berlin
X-WR-CALNAME:rbb-Kalender
VERSION:2.0
METHOD:PUBLISH
CALSCALE:GREGORIAN
PRODID:rbb-CMS DAY
BEGIN:VEVENT
LOCATION:Fotografie in der Hauptstadt
CLASS:PUBLIC
URL:http://www.rbb-online.de/content/rbb/rbb/fernsehen/programm/12_04_2014/11935767483.html
DTEND:20140412T192500
DTSTART:20140412T190000
UID:/content/rbb/rbb/fernsehen/programm/12_04_2014/11935767483
DTSTAMP:20140404T185921
DESCRIPTION:Camera Work - Meilensteine der Fotografie +++ Urban Explorers - Verfall im Bild +++ Hoffotografen - Porträts nach Maß +++ Lomographie - Rückkehr zum Analogen +++ Fotorestaurierung - Rettung von Schätzen\n
SUMMARY:HEIMATJOURNAL 12.04.2014 19:00
END:VEVENT
END:VCALENDAR
