BEGIN:VCALENDAR
X-WR-TIMEZONE:Europe/Berlin
X-WR-CALNAME:rbb-Kalender
VERSION:2.0
METHOD:PUBLISH
CALSCALE:GREGORIAN
PRODID:rbb-CMS DAY
BEGIN:VEVENT
LOCATION:Der Club zum Mitmachen
CLASS:PUBLIC
URL:http://www.rbb-online.de/content/rbb/rbb/fernsehen/programm/13_04_2014/11935771166.html
DTEND:20140413T070000
DTSTART:20140413T060000
UID:/content/rbb/rbb/fernsehen/programm/13_04_2014/11935771166
DTSTAMP:20140404T195814
DESCRIPTION:Judith Holofernes, Sängerin der seit 2011 pausierenden Band "Wir sind Helden", hat eine Soloplatte aufgenommen. Im "Tigerenten Club" stellt sie ihre aktuelle Single vor und erzählt, wie sie überhaupt zur Musik gekommen ist. Mitgebracht hat Judith Holofernes aber nicht nur sehr gute Musik, sondern auch einige selbstgemachte "Raritäten". Wie sie aus scheinbar wertlosem Müll, neue und witzige Gebrauchsgegenstände bastelt, zeigt sie den Zuschauern anhand verschiedener Beispiele.
SUMMARY:Tigerenten Club 13.04.2014 06:00
END:VEVENT
END:VCALENDAR
