BEGIN:VCALENDAR
X-WR-TIMEZONE:Europe/Berlin
X-WR-CALNAME:rbb-Kalender
VERSION:2.0
METHOD:PUBLISH
CALSCALE:GREGORIAN
PRODID:rbb-CMS DAY
BEGIN:VEVENT
LOCATION:Film von Bernadette Hauke
CLASS:PUBLIC
URL:http://www.rbb-online.de/content/rbb/rbb/fernsehen/programm/13_04_2014/11935771321.html
DTEND:20140413T072500
DTSTART:20140413T070000
UID:/content/rbb/rbb/fernsehen/programm/13_04_2014/11935771321
DTSTAMP:20140404T200109
DESCRIPTION:Jonathan kann nicht anders: Er hüpft und zappelt, kippelt und rennt. Das ist in ihm und will raus. Jonathan hat ADHS - die Aufmerksamkeits-Defizit-Hyperaktivitätsstörung. Das bedeutet, Jonathan kann sich nicht länger auf etwas konzentrieren und dabei ruhig sitzen bleiben - so, wie es zum Beispiel in der Schule verlangt wird. Seine Lehrer und seine Familie helfen ihm sehr, doch ohne Medikamente klappte es einfach nicht. Jonathan weiß um seine Situation und versucht, so gut wie möglich damit zu leben.
SUMMARY:"ADHS" - Na und? 13.04.2014 07:00
END:VEVENT
END:VCALENDAR
