BEGIN:VCALENDAR
X-WR-TIMEZONE:Europe/Berlin
X-WR-CALNAME:rbb-Kalender
VERSION:2.0
METHOD:PUBLISH
CALSCALE:GREGORIAN
PRODID:rbb-CMS DAY
BEGIN:VEVENT
LOCATION:Riesenei
CLASS:PUBLIC
URL:http://www.rbb-online.de/content/rbb/rbb/fernsehen/programm/13_04_2014/11935773867.html
DTEND:20140413T080000
DTSTART:20140413T075000
UID:/content/rbb/rbb/fernsehen/programm/13_04_2014/11935773867
DTSTAMP:20140404T195931
DESCRIPTION:Oli stolpert er über ein riesiges Ei. Er vergleicht seinen Fund mit den Abbildungen in seinem Tierlexikon. Demnach müsste es ein Straußenei sein. In der Bauernhofgeschichte brüten heute Hühner ihre Eier aus. Das bringt Oli und Käptn Kesselhut auf die Idee, auch ihr Ei auszubrüten. Aber der Papagei ist zu klein und auch Oli hat keinen Erfolg beim Brüten. Also klettern die beiden in den Ausguck, um nach der Straußenmutter Ausschau zu halten.
SUMMARY:Morgen OLI (15/100) 13.04.2014 07:50
END:VEVENT
END:VCALENDAR
