BEGIN:VCALENDAR
X-WR-TIMEZONE:Europe/Berlin
X-WR-CALNAME:rbb-Kalender
VERSION:2.0
METHOD:PUBLISH
CALSCALE:GREGORIAN
PRODID:rbb-CMS DAY
BEGIN:VEVENT
LOCATION:Zoogeschichten von der Küste
CLASS:PUBLIC
URL:http://www.rbb-online.de/content/rbb/rbb/fernsehen/programm/13_04_2014/11935774897.html
DTEND:20140413T122000
DTSTART:20140413T113000
UID:/content/rbb/rbb/fernsehen/programm/13_04_2014/11935774897
DTSTAMP:20140404T195943
DESCRIPTION:An einem strahlenden Sommertag werden fünf Heuler zurück in die Nordsee gebracht. Die Kapuzineraffen bekommen eine eiskalte Melone. Aber trotz Schlägen und Kopfnüssen: Herkules scheint die Schale nicht knacken zu können. Die wilden Stockenten im Zoo am Meer Bremerhaven müssen nun endlich raus aus dem Zoo. Katja Seedorf und Marina Wiebalk fangen sie ein und begleiten sie in die Freiheit.
SUMMARY:Seehund, Puma & Co. (140) 13.04.2014 11:30
END:VEVENT
END:VCALENDAR
