BEGIN:VCALENDAR
X-WR-TIMEZONE:Europe/Berlin
X-WR-CALNAME:rbb-Kalender
VERSION:2.0
METHOD:PUBLISH
CALSCALE:GREGORIAN
PRODID:rbb-CMS DAY
BEGIN:VEVENT
LOCATION:Was mach ich gegen Haarausfall?
CLASS:PUBLIC
URL:http://www.rbb-online.de/content/rbb/rbb/fernsehen/programm/13_04_2014/11935775091.html
DTEND:20140413T133500
DTSTART:20140413T125000
UID:/content/rbb/rbb/fernsehen/programm/13_04_2014/11935775091
DTSTAMP:20140404T195910
DESCRIPTION:Für viele Männer ist der schleichende Verlust der Haare nicht nur ein untrügliches Zeichen fürs Älterwerden, sie befürchten, mit jedem Haar auch ein wenig ihrer Männlichkeit zu verlieren. Der Filmemacher Wolfgang Luck hat schüttere und erschütterte Herren bei ihrem Kampf gegen den Haarausfall begleitet. Der Film zeigt die geplagten Herren, wie sie sich Toupets auf den Kopf kleben, Hormontabletten schlucken und sich sogar unters Skalpell legen.
SUMMARY:Nur keine Glatze! 13.04.2014 12:50
END:VEVENT
END:VCALENDAR
