BEGIN:VCALENDAR
X-WR-TIMEZONE:Europe/Berlin
X-WR-CALNAME:rbb-Kalender
VERSION:2.0
METHOD:PUBLISH
CALSCALE:GREGORIAN
PRODID:rbb-CMS DAY
BEGIN:VEVENT
LOCATION:Politik in Nordrhein-Westphalen
CLASS:PUBLIC
URL:http://www.rbb-online.de/content/rbb/rbb/fernsehen/programm/13_04_2014/11935776378.html
DTEND:20140413T201500
DTSTART:20140413T200000
UID:/content/rbb/rbb/fernsehen/programm/13_04_2014/11935776378
DTSTAMP:20140404T195858
DESCRIPTION:Die Nachrichten der ARD
SUMMARY:Tagesschau 13.04.2014 20:00
END:VEVENT
END:VCALENDAR
