BEGIN:VCALENDAR
X-WR-TIMEZONE:Europe/Berlin
X-WR-CALNAME:rbb-Kalender
VERSION:2.0
METHOD:PUBLISH
CALSCALE:GREGORIAN
PRODID:rbb-CMS DAY
BEGIN:VEVENT
LOCATION:Shoppingwahn und Schnäppchenjagd: Wie kauft Deutschland ein?
CLASS:PUBLIC
URL:http://www.rbb-online.de/content/rbb/rbb/fernsehen/programm/13_04_2014/11935776444.html
DTEND:20140413T214500
DTSTART:20140413T201500
UID:/content/rbb/rbb/fernsehen/programm/13_04_2014/11935776444
DTSTAMP:20140404T195824
DESCRIPTION:Jeder kauft und konsumiert tagtäglich. Vom Schokoriegel am Kiosk bis zum neuen Auto in der Garage. Ständig unterliegen wir Kauf- und Markenentscheidungen. Ranga Yogeshwar widmet sich in seiner großen Wissensshow auf unterhaltsame Weise diesem zentralen Thema des Alltags und erklärt: "Shoppingwahn und Schnäppchenjagd: Wie kauft Deutschland ein?" Kandidaten:\n* Bernhard Hoëcker\n* Ulla Kock am Brink\n* Mirja Boes\n* Natalia Wörner\n* Jimi Blue Ochsenknecht
SUMMARY:Die große Wissensshow mit Ranga Yogeshwar 13.04.2014 20:15
END:VEVENT
END:VCALENDAR
