BEGIN:VCALENDAR
X-WR-TIMEZONE:Europe/Berlin
X-WR-CALNAME:rbb-Kalender
VERSION:2.0
METHOD:PUBLISH
CALSCALE:GREGORIAN
PRODID:rbb-CMS DAY
BEGIN:VEVENT
LOCATION:Spielfilm USA 2000 (Shanghai Noon)
CLASS:PUBLIC
URL:http://www.rbb-online.de/content/rbb/rbb/fernsehen/programm/13_04_2014/11935776588.html
DTEND:20140414T004000
DTSTART:20140413T230000
UID:/content/rbb/rbb/fernsehen/programm/13_04_2014/11935776588
DTSTAMP:20140404T195950
DESCRIPTION:Im Jahre 1881 reist der chinesische Hofgardist Chon Wang mit einer kaiserlichen Abordnung in die USA, um die entführte Prinzessin Pei Pei aus den Fängen eines kaltblütigen Verräters zu befreien. Die Rettungsmission erweist sich allerdings als tückisch: Schon bald findet sich Wang allein im Wilden Westen wieder und ist notgedrungen auf die Hilfe des schlitzohrigen Gangsters Roy O'Bannon angewiesen, der seine ganz eigenen Interessen verfolgt. Es dauert nicht lange, bis das ungleiche Paar per Steckbrief gesucht und von gnadenlosen Kopfgeldjägern gejagt wird.
SUMMARY:Shang-High Noon 13.04.2014 23:00
END:VEVENT
END:VCALENDAR
