BEGIN:VCALENDAR
X-WR-TIMEZONE:Europe/Berlin
X-WR-CALNAME:rbb-Kalender
VERSION:2.0
METHOD:PUBLISH
CALSCALE:GREGORIAN
PRODID:rbb-CMS DAY
BEGIN:VEVENT
LOCATION:Wissen, wann Schluss ist
CLASS:PUBLIC
URL:http://www.rbb-online.de/content/rbb/rbb/fernsehen/programm/14_04_2014/11935766063.html
DTEND:20140414T011000
DTSTART:20140414T004000
UID:/content/rbb/rbb/fernsehen/programm/14_04_2014/11935766063
DTSTAMP:20140404T195940
DESCRIPTION:Murat bangt um seine Kunden: Hat Olli Klatt seine Schutzgelderpressung wahr gemacht und tatsächlich Waren im Bioladen vergiftet? Als Olli erneut Druck auf Murat ausüben will, kommt es zu einer dramatischen Auseinandersetzung. Schock für Klaus: Nastya ist zurück. Angeblich hat die Sekte "Society" sie ausgestoßen. Klaus befürchtet, dass Nastya es nun auf die gemeinsame Tochter Mila abgesehen hat. Überraschung: Chantal findet langsam Gefallen an ihrem Praktikum in der Werkstatt. Doch ob es nun wirklich die Mechanik eines Automobils ist, die sie fasziniert?
SUMMARY:Lindenstraße (1476) 14.04.2014 00:40
END:VEVENT
END:VCALENDAR
