BEGIN:VCALENDAR
X-WR-TIMEZONE:Europe/Berlin
X-WR-CALNAME:rbb-Kalender
VERSION:2.0
METHOD:PUBLISH
CALSCALE:GREGORIAN
PRODID:rbb-CMS DAY
BEGIN:VEVENT
LOCATION:Der rbb Kriminalreport mit Uwe Madel
CLASS:PUBLIC
URL:http://www.rbb-online.de/content/rbb/rbb/fernsehen/programm/14_04_2014/11935766252.html
DTEND:20140414T024500
DTSTART:20140414T022000
UID:/content/rbb/rbb/fernsehen/programm/14_04_2014/11935766252
DTSTAMP:20140404T195903
DESCRIPTION:T-O-P  ist das rbb Kriminalmagazin für Berlin und Brandenburg. Moderator Uwe Madel präsentiert aktuelle Fahndungsersuchen der Landeskriminalämter der Region.
SUMMARY:Täter - Opfer - Polizei 14.04.2014 02:20
END:VEVENT
END:VCALENDAR
