BEGIN:VCALENDAR
X-WR-TIMEZONE:Europe/Berlin
X-WR-CALNAME:rbb-Kalender
VERSION:2.0
METHOD:PUBLISH
CALSCALE:GREGORIAN
PRODID:rbb-CMS DAY
BEGIN:VEVENT
LOCATION:Ein Film von Martin Papirowski
CLASS:PUBLIC
URL:http://www.rbb-online.de/content/rbb/rbb/fernsehen/programm/14_04_2014/11935766849.html
DTEND:20140414T080000
DTSTART:20140414T073000
UID:/content/rbb/rbb/fernsehen/programm/14_04_2014/11935766849
DTSTAMP:20140404T183854
DESCRIPTION:Der Film ist die Hommage an ein außergewöhnliches Bauwerk, er begleitet seine Entstehung und Wandlung durch die Jahrhunderte, zeigt neue Eindrücke und Perspektiven und dokumentiert eine ewige Baustelle - oder eine "Baustelle der Ewigkeit".
SUMMARY:Der Dom von Köln 14.04.2014 07:30
END:VEVENT
END:VCALENDAR
