BEGIN:VCALENDAR
X-WR-TIMEZONE:Europe/Berlin
X-WR-CALNAME:rbb-Kalender
VERSION:2.0
METHOD:PUBLISH
CALSCALE:GREGORIAN
PRODID:rbb-CMS DAY
BEGIN:VEVENT
LOCATION:Leben & genießen
CLASS:PUBLIC
URL:http://www.rbb-online.de/content/rbb/rbb/fernsehen/programm/14_04_2014/11935767078.html
DTEND:20140414T103500
DTSTART:20140414T095500
UID:/content/rbb/rbb/fernsehen/programm/14_04_2014/11935767078
DTSTAMP:20140404T184155
DESCRIPTION:Das ganze Service-Angebot für Leib und Seele rund ums tägliche Leben.
SUMMARY:ARD-Buffet 14.04.2014 09:55
END:VEVENT
END:VCALENDAR
