BEGIN:VCALENDAR
X-WR-TIMEZONE:Europe/Berlin
X-WR-CALNAME:rbb-Kalender
VERSION:2.0
METHOD:PUBLISH
CALSCALE:GREGORIAN
PRODID:rbb-CMS DAY
BEGIN:VEVENT
LOCATION:Jugendserie Deutschland 1998 - 2011
CLASS:PUBLIC
URL:http://www.rbb-online.de/content/rbb/rbb/fernsehen/programm/14_04_2014/11935767365.html
DTEND:20140414T133000
DTSTART:20140414T130500
UID:/content/rbb/rbb/fernsehen/programm/14_04_2014/11935767365
DTSTAMP:20140404T184134
DESCRIPTION:Elisabeth hat sich in ihren Dickschädel gesetzt, das nächste Schuljahr in Schwarzafrika zu verbringen - doch in diese Länder gibt es keine Austauschprogramme für deutsche Kids. Schließlich lässt ihr Vater seine Beziehungen nach Ghana spielen. Ein Aufenthalt in einer Krankenstation rückt für ihre Hoheit in greifbare Nähe. Doch was wird dann aus Elisabeths Beziehung mit Sebastian?
SUMMARY:Schloss Einstein (231) 14.04.2014 13:05
END:VEVENT
END:VCALENDAR
