BEGIN:VCALENDAR
X-WR-TIMEZONE:Europe/Berlin
X-WR-CALNAME:rbb-Kalender
VERSION:2.0
METHOD:PUBLISH
CALSCALE:GREGORIAN
PRODID:rbb-CMS DAY
BEGIN:VEVENT
LOCATION:Links und rechts der Elbe
CLASS:PUBLIC
URL:http://www.rbb-online.de/content/rbb/rbb/fernsehen/programm/14_04_2014/11935767525.html
DTEND:20140414T160000
DTSTART:20140414T151500
UID:/content/rbb/rbb/fernsehen/programm/14_04_2014/11935767525
DTSTAMP:20140404T183939
DESCRIPTION:Immer an der Elbe entlang - mehr als 50 Kilometer zu Fuß. Hanseblick-Moderator Jan Hendrik Becker wechselt so oft es geht die Seiten, setzt mit der kleinen Fähre über oder trampt mit einem Fischerboot. Er geht von Ost nach West über die große Brücke in Dömitz, er isst auf einem Floß Frühstück - mitten auf dem Fluss. Unterwegs zwischen Schnackenburg und Hitzacker - auf der Suche nach Geschichten.
SUMMARY:Hanseblick 14.04.2014 15:15
END:VEVENT
END:VCALENDAR
