BEGIN:VCALENDAR
X-WR-TIMEZONE:Europe/Berlin
X-WR-CALNAME:rbb-Kalender
VERSION:2.0
METHOD:PUBLISH
CALSCALE:GREGORIAN
PRODID:rbb-CMS DAY
BEGIN:VEVENT
LOCATION:Der rbb Kriminalreport mit Uwe Madel
CLASS:PUBLIC
URL:http://www.rbb-online.de/content/rbb/rbb/fernsehen/programm/15_04_2014/11935774513.html
DTEND:20140415T053000
DTSTART:20140415T050500
UID:/content/rbb/rbb/fernsehen/programm/15_04_2014/11935774513
DTSTAMP:20140404T184122
DESCRIPTION:T-O-P  ist das rbb Kriminalmagazin für Berlin und Brandenburg. Moderator Uwe Madel präsentiert aktuelle Fahndungsersuchen der Landeskriminalämter der Region.
SUMMARY:Täter - Opfer - Polizei 15.04.2014 05:05
END:VEVENT
END:VCALENDAR
