BEGIN:VCALENDAR
X-WR-TIMEZONE:Europe/Berlin
X-WR-CALNAME:rbb-Kalender
VERSION:2.0
METHOD:PUBLISH
CALSCALE:GREGORIAN
PRODID:rbb-CMS DAY
BEGIN:VEVENT
LOCATION:Leben & genießen
CLASS:PUBLIC
URL:http://www.rbb-online.de/content/rbb/rbb/fernsehen/programm/15_04_2014/11935775747.html
DTEND:20140415T103500
DTSTART:20140415T095500
UID:/content/rbb/rbb/fernsehen/programm/15_04_2014/11935775747
DTSTAMP:20140404T192003
DESCRIPTION:Geplante Themen: \n* Zuschauerfragen zum Thema: Tierhalterhaftung; zu Gast im Studio: Karl-Dieter Möller, Rechtsexperte\n* Oster-Küche: Karlheinz Hauser kocht Kalbsrücken mit Schalottenkruste und Kohlrabinudeln\n\nModeration: Holger Wienpahl
SUMMARY:ARD-Buffet 15.04.2014 09:55
END:VEVENT
END:VCALENDAR
