BEGIN:VCALENDAR
X-WR-TIMEZONE:Europe/Berlin
X-WR-CALNAME:rbb-Kalender
VERSION:2.0
METHOD:PUBLISH
CALSCALE:GREGORIAN
PRODID:rbb-CMS DAY
BEGIN:VEVENT
LOCATION:Abenteuer Afrika
CLASS:PUBLIC
URL:http://www.rbb-online.de/content/rbb/rbb/fernsehen/programm/15_04_2014/11935776679.html
DTEND:20140415T175500
DTSTART:20140415T170500
UID:/content/rbb/rbb/fernsehen/programm/15_04_2014/11935776679
DTSTAMP:20140404T192350
DESCRIPTION:Simi, ein sechs Wochen altes Ducker-Antilopenmädchen, leidet an zu hohem Hirndruck. Daraus hat sich bereits eine Sehschwäche entwickelt. Ob sich ihr Zustand verbessern wird? Der Kudu Frederick lebt im Garten von Harnas-Mitarbeiter Caleb. Er wurde vor vier Wochen nach Harnas gebracht - mit schweren Kopfverletzungen, die wahrscheinlich vom Angriff einer Raubkatze stammen.
SUMMARY:Das Waisenhaus für wilde Tiere (64) 15.04.2014 17:05
END:VEVENT
END:VCALENDAR
