BEGIN:VCALENDAR
X-WR-TIMEZONE:Europe/Berlin
X-WR-CALNAME:rbb-Kalender
VERSION:2.0
METHOD:PUBLISH
CALSCALE:GREGORIAN
PRODID:rbb-CMS DAY
BEGIN:VEVENT
LOCATION:Ein Film von Thomas Wartmann
CLASS:PUBLIC
URL:http://www.rbb-online.de/content/rbb/rbb/fernsehen/programm/16_04_2014/11935771445.html
DTEND:20140416T010000
DTSTART:20140416T001500
UID:/content/rbb/rbb/fernsehen/programm/16_04_2014/11935771445
DTSTAMP:20140404T192243
DESCRIPTION:Nirgendwo ist die Welt der Pferde so vielseitig, werden so viele Fohlen geboren und Pferde exportiert wie in Argentinien. Der Film führt in drei sehr unterschiedliche Welten: zu den Gauchos in der Pampa, in die exklusive Welt des Polo und zum tagtäglichen Überlebenskampf der Cartoneros, der Müllsammler in der Megacity Buenos Aires. Regisseur Thomas Wartmann erzählt persönliche Geschichten von Menschen, die mit der Erfüllung eines Traumes enden.\n
SUMMARY:Im Bann der Pferde - Argentinien 16.04.2014 00:15
END:VEVENT
END:VCALENDAR
