BEGIN:VCALENDAR
X-WR-TIMEZONE:Europe/Berlin
X-WR-CALNAME:rbb-Kalender
VERSION:2.0
METHOD:PUBLISH
CALSCALE:GREGORIAN
PRODID:rbb-CMS DAY
BEGIN:VEVENT
LOCATION:Talk mit Jörg Thadeusz
CLASS:PUBLIC
URL:http://www.rbb-online.de/content/rbb/rbb/fernsehen/programm/16_04_2014/11935772115.html
DTEND:20140416T021500
DTSTART:20140416T014500
UID:/content/rbb/rbb/fernsehen/programm/16_04_2014/11935772115
DTSTAMP:20140404T192002
DESCRIPTION:Gast: Arne Friedrich\n* THADEUSZ ist eine klassische Gesprächssendung: Der Moderator trifft in jeder Sendung einen einzigen Gast und unterhält sich mit ihm - eine ganze halbe Stunde lang. So entsteht aus dem reinen Frage- und Antwortspiel ein meinungsfreudiger Dialog. Der jeweilige Gast spricht über Sachverhalte, zu denen er eine Meinung und auch wirklich etwas zu sagen hat. Ein Dialog, der dem Zuschauer neue Erkenntnisse auch über prominente Gäste bringt.
SUMMARY:THADEUSZ 16.04.2014 01:45
END:VEVENT
END:VCALENDAR
