BEGIN:VCALENDAR
X-WR-TIMEZONE:Europe/Berlin
X-WR-CALNAME:rbb-Kalender
VERSION:2.0
METHOD:PUBLISH
CALSCALE:GREGORIAN
PRODID:rbb-CMS DAY
BEGIN:VEVENT
LOCATION:15.04.1989
CLASS:PUBLIC
URL:http://www.rbb-online.de/content/rbb/rbb/fernsehen/programm/16_04_2014/11935772302.html
DTEND:20140416T024000
DTSTART:20140416T021500
UID:/content/rbb/rbb/fernsehen/programm/16_04_2014/11935772302
DTSTAMP:20140404T192059
DESCRIPTION:Die Abendschau berichtet seit 1958 über das Wichtigste aus Politik, Kultur, Wirtschaft und Sport, die Szenetrends und die Kiezgeschichten.
SUMMARY:Berliner Abendschau 16.04.2014 02:15
END:VEVENT
END:VCALENDAR
