BEGIN:VCALENDAR
X-WR-TIMEZONE:Europe/Berlin
X-WR-CALNAME:rbb-Kalender
VERSION:2.0
METHOD:PUBLISH
CALSCALE:GREGORIAN
PRODID:rbb-CMS DAY
BEGIN:VEVENT
CLASS:PUBLIC
URL:http://www.rbb-online.de/content/rbb/rbb/fernsehen/programm/16_04_2014/11935773212.html
DTEND:20140416T060000
DTSTART:20140416T053500
UID:/content/rbb/rbb/fernsehen/programm/16_04_2014/11935773212
DTSTAMP:20140404T192210
DESCRIPTION:Stimmungsvolle Bilder von Fahrten durch das erwachende Potsdam, untermalt vom Soundtrack der Großstadtnacht.
SUMMARY:Potsdam erwacht 16.04.2014 05:35
END:VEVENT
END:VCALENDAR
