BEGIN:VCALENDAR
X-WR-TIMEZONE:Europe/Berlin
X-WR-CALNAME:rbb-Kalender
VERSION:2.0
METHOD:PUBLISH
CALSCALE:GREGORIAN
PRODID:rbb-CMS DAY
BEGIN:VEVENT
LOCATION:Der rbb Kriminalreport mit Uwe Madel
CLASS:PUBLIC
URL:http://www.rbb-online.de/content/rbb/rbb/fernsehen/programm/16_04_2014/11935773445.html
DTEND:20140416T063000
DTSTART:20140416T060000
UID:/content/rbb/rbb/fernsehen/programm/16_04_2014/11935773445
DTSTAMP:20140404T202114
DESCRIPTION:T-O-P  ist das rbb Kriminalmagazin für Berlin und Brandenburg. Moderator Uwe Madel präsentiert aktuelle Fahndungsersuchen der Landeskriminalämter der Region.
SUMMARY:Täter - Opfer - Polizei 16.04.2014 06:00
END:VEVENT
END:VCALENDAR
