BEGIN:VCALENDAR
X-WR-TIMEZONE:Europe/Berlin
X-WR-CALNAME:rbb-Kalender
VERSION:2.0
METHOD:PUBLISH
CALSCALE:GREGORIAN
PRODID:rbb-CMS DAY
BEGIN:VEVENT
CLASS:PUBLIC
URL:http://www.rbb-online.de/content/rbb/rbb/fernsehen/programm/16_04_2014/11935773711.html
DTEND:20140416T080000
DTSTART:20140416T073000
UID:/content/rbb/rbb/fernsehen/programm/16_04_2014/11935773711
DTSTAMP:20140404T202239
DESCRIPTION:Die Kirche Sankt Stephan in Mainz ist mit Fenstern des weltberühmten Künstlers Marc Chagall (1887-1985) ausgestattet, der als Jude während des Zweiten Weltkrieges von Frankreich in die USA fliehen musste. Klaus Mayer, ehemaliger Pfarrer der Kirche, musste Chagall lange dazu überreden, für einen deutschen Auftraggeber zu arbeiten. Mit den Fenstern eines jüdischen Künstlers in einer christlichen Kirche hat die rheinland-pfälzische Landeshauptstadt ein wichtiges Zeichen für die jüdisch-christlichen Beziehungen gesetzt.
SUMMARY:Die Chagall-Fenster in Mainz 16.04.2014 07:30
END:VEVENT
END:VCALENDAR
