BEGIN:VCALENDAR
X-WR-TIMEZONE:Europe/Berlin
X-WR-CALNAME:rbb-Kalender
VERSION:2.0
METHOD:PUBLISH
CALSCALE:GREGORIAN
PRODID:rbb-CMS DAY
BEGIN:VEVENT
LOCATION:Zu neuen Ufern
CLASS:PUBLIC
URL:http://www.rbb-online.de/content/rbb/rbb/fernsehen/programm/16_04_2014/11935774657.html
DTEND:20140416T130000
DTSTART:20140416T121500
UID:/content/rbb/rbb/fernsehen/programm/16_04_2014/11935774657
DTSTAMP:20140404T202014
DESCRIPTION:Sebastian Maier ist in einer Lebenskrise. Das Philosophiestudium und der Pflegedienst füllen ihn nicht aus. Harry bietet ihm an, als Model für ihn zu arbeiten. Sebastian ringt mit sich und entscheidet sich schließlich dafür. Er verlässt Leipzig und zieht nach Hamburg.
SUMMARY:In aller Freundschaft (374) 16.04.2014 12:15
END:VEVENT
END:VCALENDAR
