BEGIN:VCALENDAR
X-WR-TIMEZONE:Europe/Berlin
X-WR-CALNAME:rbb-Kalender
VERSION:2.0
METHOD:PUBLISH
CALSCALE:GREGORIAN
PRODID:rbb-CMS DAY
BEGIN:VEVENT
LOCATION:Spielfilm Deutschland / Türkei 2009
CLASS:PUBLIC
URL:http://www.rbb-online.de/content/rbb/rbb/fernsehen/programm/16_04_2014/11935776678.html
DTEND:20140417T003500
DTSTART:20140416T224500
UID:/content/rbb/rbb/fernsehen/programm/16_04_2014/11935776678
DTSTAMP:20140404T202010
DESCRIPTION:Die 25-jährige Türkin Umay steht mit ihrem Sohn Cem in Berlin vor der Haustür ihrer Eltern. Sie hat das Leben mit ihrem Ehemann in Istanbul nicht mehr ausgehalten. Zurückhaltend wird sie aufgenommen. Schon bald trifft die Familie die Entscheidung, Cem wieder zum Vater zu schicken. Nur so kann die Ehre wieder hergestellt werden.
SUMMARY:Die Fremde 16.04.2014 22:45
END:VEVENT
END:VCALENDAR
