BEGIN:VCALENDAR
X-WR-TIMEZONE:Europe/Berlin
X-WR-CALNAME:rbb-Kalender
VERSION:2.0
METHOD:PUBLISH
CALSCALE:GREGORIAN
PRODID:rbb-CMS DAY
BEGIN:VEVENT
LOCATION:Das Politik-Magazin
CLASS:PUBLIC
URL:http://www.rbb-online.de/content/rbb/rbb/fernsehen/programm/17_04_2014/11935777803.html
DTEND:20140417T032000
DTSTART:20140417T025000
UID:/content/rbb/rbb/fernsehen/programm/17_04_2014/11935777803
DTSTAMP:20140404T201921
DESCRIPTION:Das Politmagazin des RBB informiert im Klartext über die aktuell-politischen Ereignisse der "Berliner Republik". KLARTEXT zeigt Hintergründe, Meinungen und Reportagen. Die Autoren decken mit eigenen Recherchen gesellschaftliche Missstände auf - unabhängig von politischen Parteien und Ideologien. Eine Sendung, die bei der Berichterstattung keine Konflikte scheut: glaubwürdig, aktuell und verständlich.\n\nModeration: Astrid Frohloff
SUMMARY:KLARTEXT 17.04.2014 02:50
END:VEVENT
END:VCALENDAR
