BEGIN:VCALENDAR
X-WR-TIMEZONE:Europe/Berlin
X-WR-CALNAME:rbb-Kalender
VERSION:2.0
METHOD:PUBLISH
CALSCALE:GREGORIAN
PRODID:rbb-CMS DAY
BEGIN:VEVENT
LOCATION:Wellness in der Mark
CLASS:PUBLIC
URL:http://www.rbb-online.de/content/rbb/rbb/fernsehen/programm/17_04_2014/11935778486.html
DTEND:20140417T165000
DTSTART:20140417T160500
UID:/content/rbb/rbb/fernsehen/programm/17_04_2014/11935778486
DTSTAMP:20140404T181431
DESCRIPTION:Großzügige Saunalandschaften, abwechslungsreiche Thermen, Massagen für Kopf, Schultern und Beine, Yoga im Kräutergarten, Peeling, Masken und Maniküre - Deutschland ist im Wellnessfieber. Brandenburg soll diesen Trend verschlafen haben, erklärte kürzlich der Vorsitzende des Deutschen Wellnessverbandes. Wo kann man wirklich entspannen in Brandenburg - und wie macht man es richtig?
SUMMARY:Der Berlin-Brandenburg Check 17.04.2014 16:05
END:VEVENT
END:VCALENDAR
