BEGIN:VCALENDAR
X-WR-TIMEZONE:Europe/Berlin
X-WR-CALNAME:rbb-Kalender
VERSION:2.0
METHOD:PUBLISH
CALSCALE:GREGORIAN
PRODID:rbb-CMS DAY
BEGIN:VEVENT
LOCATION:Fernsehfilm Schweden / Deutschland 2012 (DEN OROLIGE MANNEN)
CLASS:PUBLIC
URL:http://www.rbb-online.de/content/rbb/rbb/fernsehen/programm/18_04_2014/11939346214.html
DTEND:20140418T020000
DTSTART:20140418T002500
UID:/content/rbb/rbb/fernsehen/programm/18_04_2014/11939346214
DTSTAMP:20140404T181123
DESCRIPTION:In diesem Thriller nach dem gleichnamigen Roman von Henning Mankell wird Kommissar Wallander mit den Spätwirkungen des Kalten Krieges konfrontiert. Der Schwede Krister Henriksson glänzt in der Rolle des eigensinnigen Ermittlers, der zunehmend gesundheitliche Probleme bekommt.
SUMMARY:Mankells Wallander - Der Feind im Schatten 18.04.2014 00:25
END:VEVENT
END:VCALENDAR
