BEGIN:VCALENDAR
X-WR-TIMEZONE:Europe/Berlin
X-WR-CALNAME:rbb-Kalender
VERSION:2.0
METHOD:PUBLISH
CALSCALE:GREGORIAN
PRODID:rbb-CMS DAY
BEGIN:VEVENT
LOCATION:Film von Walter Brähler
CLASS:PUBLIC
URL:http://www.rbb-online.de/content/rbb/rbb/fernsehen/programm/18_04_2014/11939346224.html
DTEND:20140418T024500
DTSTART:20140418T020000
UID:/content/rbb/rbb/fernsehen/programm/18_04_2014/11939346224
DTSTAMP:20140404T181456
DESCRIPTION:Nichts entspricht dem Mythos von Freiheit und Schönheit in der Natur so sehr wie wild lebende Pferde. Doch wo gibt es das heute noch in Europa? Höchstens in einigen wenigen Tierreservaten und in kleiner Zahl. Nur in Galicien, im Nordwesten Spaniens, leben noch tausende von wilden Pferden frei in der Natur, ganz ohne Zäune.\n
SUMMARY:Spaniens wilde Pferde 18.04.2014 02:00
END:VEVENT
END:VCALENDAR
