BEGIN:VCALENDAR
X-WR-TIMEZONE:Europe/Berlin
X-WR-CALNAME:rbb-Kalender
VERSION:2.0
METHOD:PUBLISH
CALSCALE:GREGORIAN
PRODID:rbb-CMS DAY
BEGIN:VEVENT
LOCATION:Spielfilm Deutschland / Österreich 2011
CLASS:PUBLIC
URL:http://www.rbb-online.de/content/rbb/rbb/fernsehen/programm/18_04_2014/11939346359.html
DTEND:20140418T080000
DTSTART:20140418T063000
UID:/content/rbb/rbb/fernsehen/programm/18_04_2014/11939346359
DTSTAMP:20140404T200837
DESCRIPTION:Als ihre Freundin Marlies während einer Recherchereise in den Bergen ums Leben kommt, reist die Tourismusexpertin Johanna in die Steiermark, um die Formalitäten zu regeln. Dabei stößt sie auf Hinweise, dass Marlies' tragischer Unfall sich möglicherweise anders abspielte als offiziell behauptet wird. Packendes Heimatdrama nach Motiven eines Romans von Ludwig Ganghofer.
SUMMARY:Nur der Berg kennt die Wahrheit 18.04.2014 06:30
END:VEVENT
END:VCALENDAR
