BEGIN:VCALENDAR
X-WR-TIMEZONE:Europe/Berlin
X-WR-CALNAME:rbb-Kalender
VERSION:2.0
METHOD:PUBLISH
CALSCALE:GREGORIAN
PRODID:rbb-CMS DAY
BEGIN:VEVENT
LOCATION:Spielfilm Deutschland 1969
CLASS:PUBLIC
URL:http://www.rbb-online.de/content/rbb/rbb/fernsehen/programm/18_04_2014/11939346415.html
DTEND:20140418T115500
DTSTART:20140418T101500
UID:/content/rbb/rbb/fernsehen/programm/18_04_2014/11939346415
DTSTAMP:20140404T200944
DESCRIPTION:Erster Film mit dem Kinderstar Heintje: Der 13-jährige Heinz "Heintje" Gruber wohnt seit dem Tod seiner Eltern bei seiner Tante Monika. Deren neuer Verlobter, Günter Schelle, möchte den Jungen ins Kinderheim abschieben. Heintje, der später gern Jockey werden möchte, verbringt seine freie Zeit am liebsten im Gestüt von Alfred Teichmann, der sich mit dem Jungen anfreundet.
SUMMARY:Heintje - Ein Herz geht auf Reisen 18.04.2014 10:15
END:VEVENT
END:VCALENDAR
