BEGIN:VCALENDAR
X-WR-TIMEZONE:Europe/Berlin
X-WR-CALNAME:rbb-Kalender
VERSION:2.0
METHOD:PUBLISH
CALSCALE:GREGORIAN
PRODID:rbb-CMS DAY
BEGIN:VEVENT
LOCATION:Kriminalfilm Deutschland 2011
CLASS:PUBLIC
URL:http://www.rbb-online.de/content/rbb/rbb/fernsehen/programm/18_04_2014/11939346425.html
DTEND:20140418T132500
DTSTART:20140418T115500
UID:/content/rbb/rbb/fernsehen/programm/18_04_2014/11939346425
DTSTAMP:20140404T201046
DESCRIPTION:Ein Finanzmakler liegt tot auf der historischen Streckbank einer Seniorenresidenz. Verdächtig sind drei Rentner,  die der Tote um ihre Ersparnisse gebracht hat. Ein neuer Fall für Pfarrer Braun, der sofort zu "kriminalisieren" beginnt.
SUMMARY:Pfarrer Braun: Altes Geld, junges Blut 18.04.2014 11:55
END:VEVENT
END:VCALENDAR
