BEGIN:VCALENDAR
X-WR-TIMEZONE:Europe/Berlin
X-WR-CALNAME:rbb-Kalender
VERSION:2.0
METHOD:PUBLISH
CALSCALE:GREGORIAN
PRODID:rbb-CMS DAY
BEGIN:VEVENT
LOCATION:Der Alexanderplatz
CLASS:PUBLIC
URL:http://www.rbb-online.de/content/rbb/rbb/fernsehen/programm/18_04_2014/11939346471.html
DTEND:20140418T175000
DTSTART:20140418T170500
UID:/content/rbb/rbb/fernsehen/programm/18_04_2014/11939346471
DTSTAMP:20140404T201032
DESCRIPTION:Wohl kein Platz in Berlin ist so berühmt und berüchtigt wie der Alexanderplatz - und wohl kein Platz hat im Laufe seiner Geschichte so oft sein Gesicht verändert. Bis heute ist der Platz ein Ort der Widersprüche, der Extreme und Geheimnisse. Die Dokumentation von Thomas Zimolong erzählt die Geschichte diese Platzes im 20. Jahrhundert
SUMMARY:Geheimnisvolle Orte 18.04.2014 17:05
END:VEVENT
END:VCALENDAR
