BEGIN:VCALENDAR
X-WR-TIMEZONE:Europe/Berlin
X-WR-CALNAME:rbb-Kalender
VERSION:2.0
METHOD:PUBLISH
CALSCALE:GREGORIAN
PRODID:rbb-CMS DAY
BEGIN:VEVENT
LOCATION:Fuchs und Elster: Die Eierschalenvase
CLASS:PUBLIC
URL:http://www.rbb-online.de/content/rbb/rbb/fernsehen/programm/18_04_2014/11939346494.html
DTEND:20140418T180000
DTSTART:20140418T175000
UID:/content/rbb/rbb/fernsehen/programm/18_04_2014/11939346494
DTSTAMP:20140404T201030
DESCRIPTION:"Unser Sandmännchen" steht nicht nur auf der Hitliste der jüngsten Zuschauer. Es hat seine Fans auch bei den Eltern und Großeltern. Und es ist auch heute seine Aufgabe, die Kinder mit einer Gute-Nacht-Geschichte ins Bett zu bringen.
SUMMARY:Unser Sandmännchen 18.04.2014 17:50
END:VEVENT
END:VCALENDAR
