BEGIN:VCALENDAR
X-WR-TIMEZONE:Europe/Berlin
X-WR-CALNAME:rbb-Kalender
VERSION:2.0
METHOD:PUBLISH
CALSCALE:GREGORIAN
PRODID:rbb-CMS DAY
BEGIN:VEVENT
LOCATION:Unterwegs mit Sascha Hingst
CLASS:PUBLIC
URL:http://www.rbb-online.de/content/rbb/rbb/fernsehen/programm/18_04_2014/11939346640.html
DTEND:20140418T214500
DTSTART:20140418T201500
UID:/content/rbb/rbb/fernsehen/programm/18_04_2014/11939346640
DTSTAMP:20140404T200938
DESCRIPTION:Sonne, Meer und Wind, prächtige Badeorte und kilometerlange Strände, ein Aal im Netz und ein Kiteboard unter den Füßen. rbb-Moderator Sascha Hingst hat ein verlockendes Ziel: Er ist unterwegs von Berlin nach Usedom. Nirgendwo in Deutschland scheint die Sonne länger als hier. Gute Aussichten für einen Ausflug zu der beliebten Ostsee-Insel.
SUMMARY:Abenteuer Usedom - Von Berlin ans Meer 18.04.2014 20:15
END:VEVENT
END:VCALENDAR
