BEGIN:VCALENDAR
X-WR-TIMEZONE:Europe/Berlin
X-WR-CALNAME:rbb-Kalender
VERSION:2.0
METHOD:PUBLISH
CALSCALE:GREGORIAN
PRODID:rbb-CMS DAY
BEGIN:VEVENT
LOCATION:Geschichten aus Berlin und Brandenburg
CLASS:PUBLIC
URL:http://www.rbb-online.de/content/rbb/rbb/fernsehen/programm/19_04_2014/11945008272.html
DTEND:20140419T183000
DTSTART:20140419T180000
UID:/content/rbb/rbb/fernsehen/programm/19_04_2014/11945008272
DTSTAMP:20140404T185343
DESCRIPTION:Das älteste Musikinstrument der Welt erklingt zwischen Himmel und Erde: Die Glocke. Seit Jahrhunderten hat ihr Läuten den Tag vom Morgen bis zum Abend strukturiert. Der Film unternimmt eine klingende Rundreise: von der traditionsreichen Arbeit der Glockengießer, über die Rekonstruktion eines Pilgerwegs anhand von Glockenzeichen bis zum bedeutenden Berliner Großgeläut im Dom.
SUMMARY:Klingende Oster-Glocken 19.04.2014 18:00
END:VEVENT
END:VCALENDAR
