BEGIN:VCALENDAR
X-WR-TIMEZONE:Europe/Berlin
X-WR-CALNAME:rbb-Kalender
VERSION:2.0
METHOD:PUBLISH
CALSCALE:GREGORIAN
PRODID:rbb-CMS DAY
BEGIN:VEVENT
LOCATION:Die Wetteraussichten für Berlin und Brandenburg
CLASS:PUBLIC
URL:http://www.rbb-online.de/content/rbb/rbb/fernsehen/programm/19_04_2014/11945008281.html
DTEND:20140419T183200
DTSTART:20140419T183000
UID:/content/rbb/rbb/fernsehen/programm/19_04_2014/11945008281
DTSTAMP:20140404T185402
DESCRIPTION:
SUMMARY:rbb wetter 19.04.2014 18:30
END:VEVENT
END:VCALENDAR
