BEGIN:VCALENDAR
X-WR-TIMEZONE:Europe/Berlin
X-WR-CALNAME:rbb-Kalender
VERSION:2.0
METHOD:PUBLISH
CALSCALE:GREGORIAN
PRODID:rbb-CMS DAY
BEGIN:VEVENT
LOCATION:19.04.1989
CLASS:PUBLIC
URL:http://www.rbb-online.de/content/rbb/rbb/fernsehen/programm/20_04_2014/11950540211.html
DTEND:20140420T024500
DTSTART:20140420T022000
UID:/content/rbb/rbb/fernsehen/programm/20_04_2014/11950540211
DTSTAMP:20140404T185257
DESCRIPTION:Die Abendschau berichtet seit 1958 über das Wichtigste aus Politik, Kultur, Wirtschaft und Sport, die Szenetrends und die Kiezgeschichten.
SUMMARY:Berliner Abendschau 20.04.2014 02:20
END:VEVENT
END:VCALENDAR
