BEGIN:VCALENDAR
X-WR-TIMEZONE:Europe/Berlin
X-WR-CALNAME:rbb-Kalender
VERSION:2.0
METHOD:PUBLISH
CALSCALE:GREGORIAN
PRODID:rbb-CMS DAY
BEGIN:VEVENT
LOCATION:Moderation: Hellmuth Henneberg
CLASS:PUBLIC
URL:http://www.rbb-online.de/content/rbb/rbb/fernsehen/programm/20_04_2014/11950540301.html
DTEND:20140420T050000
DTSTART:20140420T043000
UID:/content/rbb/rbb/fernsehen/programm/20_04_2014/11950540301
DTSTAMP:20140404T185504
DESCRIPTION:Gartenzeit ist das rbb-Magazin für Gartenfreunde in Berlin und Brandenburg. Die serviceorientierte Sendung gibt viele praktische Tipps und Hinweise, holt Auskünfte von Profi-Gärtnern ein und stellt Hobbygärtner vor.
SUMMARY:rbb Gartenzeit 20.04.2014 04:30
END:VEVENT
END:VCALENDAR
