BEGIN:VCALENDAR
X-WR-TIMEZONE:Europe/Berlin
X-WR-CALNAME:rbb-Kalender
VERSION:2.0
METHOD:PUBLISH
CALSCALE:GREGORIAN
PRODID:rbb-CMS DAY
BEGIN:VEVENT
LOCATION:Spielfilm Deutschland 1960
CLASS:PUBLIC
URL:http://www.rbb-online.de/content/rbb/rbb/fernsehen/programm/20_04_2014/11950540357.html
DTEND:20140420T080000
DTSTART:20140420T062000
UID:/content/rbb/rbb/fernsehen/programm/20_04_2014/11950540357
DTSTAMP:20140404T182434
DESCRIPTION:Mit "Das Wirtshaus im Spessart" aus dem Jahr 1958 konnte Komödienregisseur Kurt Hoffmann einen fantastischen Erfolg feiern. Kein Wunder, dass er sich an eine Fortsetzung machte. Neben Kurt Hoffmanns Entdeckung und Lieblingsschauspielerin Liselotte Pulver spielt Hanne Wieder auf köstliche Weise die Ex-Räuberbraut Katrin, die aus Gründen der Erotik unter dem Dasein als Gespenst leidet und ihren Sex-Appeal in einem menschlichen Körper noch einmal erfolgreich bei einem leibhaftigen orientalischen Fürsten alias Hans Clarin ausprobieren kann.
SUMMARY:Das Spukschloss im Spessart 20.04.2014 06:20
END:VEVENT
END:VCALENDAR
