BEGIN:VCALENDAR
X-WR-TIMEZONE:Europe/Berlin
X-WR-CALNAME:rbb-Kalender
VERSION:2.0
METHOD:PUBLISH
CALSCALE:GREGORIAN
PRODID:rbb-CMS DAY
BEGIN:VEVENT
LOCATION:Vati hat geheiratet
CLASS:PUBLIC
URL:http://www.rbb-online.de/content/rbb/rbb/fernsehen/programm/20_04_2014/11950540404.html
DTEND:20140420T102500
DTSTART:20140420T090000
UID:/content/rbb/rbb/fernsehen/programm/20_04_2014/11950540404
DTSTAMP:20140404T182409
DESCRIPTION:Kalle und Kulle haben nun nicht nur eine Mutter, von der sie einfühlsam und konsequent erzogen werden, sie haben auch eine siebenjährige Schwester. Als die Eltern eines Tages in einen heftigen Streit geraten und die Ehe ernstlich in Gefahr gerät, sehen die Kinder nicht tatenlos zu. - Folge 3 der beliebten vierteiligen DDR-Fernsehfilm-Reihe "Aber Vati!", in der neben Eriks S. Klein in der Rolle des überforderten Vaters auch weitere beliebte Darsteller wie Helga Labudda, Marianne Wünscher und Jochen Thomas zu sehen sind. Die Rollen der munteren Zwillinge spielen Ralf und Rolf Lemcke.
SUMMARY:Aber Vati! (3/4) 20.04.2014 09:00
END:VEVENT
END:VCALENDAR
