BEGIN:VCALENDAR
X-WR-TIMEZONE:Europe/Berlin
X-WR-CALNAME:rbb-Kalender
VERSION:2.0
METHOD:PUBLISH
CALSCALE:GREGORIAN
PRODID:rbb-CMS DAY
BEGIN:VEVENT
LOCATION:Oster-Alarm
CLASS:PUBLIC
URL:http://www.rbb-online.de/content/rbb/rbb/fernsehen/programm/20_04_2014/11950540435.html
DTEND:20140420T131500
DTSTART:20140420T124500
UID:/content/rbb/rbb/fernsehen/programm/20_04_2014/11950540435
DTSTAMP:20140404T182436
DESCRIPTION:Die letzten Tage vor Ostern: Das bedeutet im riesigen Gartencenter von Hemmingen bei Hannover "Großkampftag"! Drei Lkw-Ladungen frische Pflanzen sind da und müssen sofort einsortiert werden. Am langen Osterwochenende wollen die Hobby-Gärtner beweisen, dass sie einen grünen Daumen haben. In der Deko-Abteilung kommen neue Hasen, Eier und Stofflämmer ins Regal.
SUMMARY:Frühlingsgefühle im Gartenmarkt (3/3) 20.04.2014 12:45
END:VEVENT
END:VCALENDAR
