BEGIN:VCALENDAR
X-WR-TIMEZONE:Europe/Berlin
X-WR-CALNAME:rbb-Kalender
VERSION:2.0
METHOD:PUBLISH
CALSCALE:GREGORIAN
PRODID:rbb-CMS DAY
BEGIN:VEVENT
LOCATION:Spielfilm Großbritannien / USA 2009 (The young Victoria)
CLASS:PUBLIC
URL:http://www.rbb-online.de/content/rbb/rbb/fernsehen/programm/20_04_2014/11950540463.html
DTEND:20140420T170500
DTSTART:20140420T153000
UID:/content/rbb/rbb/fernsehen/programm/20_04_2014/11950540463
DTSTAMP:20140404T182513
DESCRIPTION:Mit ihrer Krönung übernimmt die 18-jährige Victoria von Kent Regierungsverantwortung in Zeiten politischer Konflikte und erbitterter Machtkämpfe. In diese neue Rolle muss die lebensfrohe junge Frau erst hineinwachsen: Wer will sie für seine Zwecke instrumentalisieren und auf wen kann sie sich verlassen? Auf Einladung ihrer Mutter, der sie längst nicht mehr vertraut, kommt der deutsche Prinz Albert nach London. Der Cousin soll Victorias Herz erobern, um so den Einfluss seiner Familie auf das englische Königshaus zu stärken. Der Plan geht auf - jedoch ganz anders als erwartet.
SUMMARY:Victoria, die junge Königin 20.04.2014 15:30
END:VEVENT
END:VCALENDAR
