BEGIN:VCALENDAR
X-WR-TIMEZONE:Europe/Berlin
X-WR-CALNAME:rbb-Kalender
VERSION:2.0
METHOD:PUBLISH
CALSCALE:GREGORIAN
PRODID:rbb-CMS DAY
BEGIN:VEVENT
LOCATION:Von Tschechien nach Wittenberge
CLASS:PUBLIC
URL:http://www.rbb-online.de/content/rbb/rbb/fernsehen/programm/20_04_2014/11950540639.html
DTEND:20140420T214500
DTSTART:20140420T201500
UID:/content/rbb/rbb/fernsehen/programm/20_04_2014/11950540639
DTSTAMP:20140404T182601
DESCRIPTION:Die Elbe ist der letzte weitgehend naturbelassene Fluss Zentraleuropas. Über Hunderte Kilometer zieht sie ihre Bahn, ihrem natürlichen Lauf folgend, vorbei an einzigartigen Kultur- und Naturlandschaften. Über viele Tage und Flugstunden waren die Filmemacher von Tschechien bis nach Wittenberge mit dem Hubschrauber unterwegs.
SUMMARY:Die Elbe von oben 20.04.2014 20:15
END:VEVENT
END:VCALENDAR
